BEGIN:VCALENDAR
VERSION:2.0
PRODID:-//DJ Selos//Booking Calendar//EN
BEGIN:VEVENT
UID:69e62e4f1e0b7@djselos
DTSTAMP:20260420T134655Z
DTSTART:20250621T190000
DTEND:20250621T010000
SUMMARY:Bruiloft - DJ Selos
LOCATION:Zalencentrum De Luxe, Rotterdam
DESCRIPTION:Mix Turks/NL, veel R&B
END:VEVENT
END:VCALENDAR
